BEGIN:VCALENDAR
VERSION:2.0
PRODID:-//Church hope - ECPv6.15.13.1//NONSGML v1.0//EN
CALSCALE:GREGORIAN
METHOD:PUBLISH
X-WR-CALNAME:Church hope
X-ORIGINAL-URL:https://themes.creativebrainweb.com/churchhope
X-WR-CALDESC:Events for Church hope
REFRESH-INTERVAL;VALUE=DURATION:PT1H
X-Robots-Tag:noindex
X-PUBLISHED-TTL:PT1H
BEGIN:VTIMEZONE
TZID:Asia/Kolkata
BEGIN:STANDARD
TZOFFSETFROM:+0530
TZOFFSETTO:+0530
TZNAME:IST
DTSTART:20230101T000000
END:STANDARD
END:VTIMEZONE
BEGIN:VEVENT
DTSTART;TZID=Asia/Kolkata:20241030T080000
DTEND;TZID=Asia/Kolkata:20251031T170000
DTSTAMP:20260422T145439
CREATED:20241101T170330Z
LAST-MODIFIED:20250526T133017Z
UID:2107-1730275200-1761930000@themes.creativebrainweb.com
SUMMARY:Support Group for Navigating Divorce
DESCRIPTION:Finding Healing and Hope Together\nGoing through a divorce can be one of life’s most difficult experiences\, often accompanied by feelings of grief\, confusion\, and loneliness. Our Support Group for Navigating Divorce is designed to provide a safe and nurturing environment where individuals can come together to share their experiences and find solace in community. This group focuses on healing\, offering the support needed to cope with the emotional and practical challenges that arise during this transition. \nCreating a Sense of Community\nIn our support group\, participants will find a welcoming community of individuals who understand the complexities of divorce. Sharing personal stories and feelings fosters a sense of connection and belonging\, allowing members to realize that they are not alone in their journey. The group encourages open dialogue and mutual support\, helping individuals navigate their emotions while building lasting relationships with others who are facing similar challenges. \nResources for Personal Growth and Recovery\nOur support group also provides access to valuable resources aimed at aiding in the healing process. Participants will receive workbooks and discussion materials that offer practical tools for coping with the effects of divorce. Guided discussions led by trained facilitators will help members explore their feelings\, learn effective coping strategies\, and develop a positive outlook for the future. The focus on recovery and personal growth empowers individuals to rebuild their lives and move forward with hope.
URL:https://themes.creativebrainweb.com/churchhope/event/support-group-for-navigating-divorce/
LOCATION:Venue Name\, 14 Tottenham Road\, San Jose\, CA\, 95155\, United States
CATEGORIES:event
ATTACH;FMTTYPE=image/webp:https://themes.creativebrainweb.com/churchhope/wp-content/uploads/2024/11/e5.webp
END:VEVENT
BEGIN:VEVENT
DTSTART;TZID=Asia/Kolkata:20241030T080000
DTEND;TZID=Asia/Kolkata:20251031T170000
DTSTAMP:20260422T145439
CREATED:20241101T165546Z
LAST-MODIFIED:20250526T133017Z
UID:2101-1730275200-1761930000@themes.creativebrainweb.com
SUMMARY:Church Choir
DESCRIPTION:The Heartbeat of Worship\nThe church choir serves as the heartbeat of worship\, enriching the spiritual experience for the congregation. Through a diverse repertoire of traditional hymns and contemporary worship songs\, the choir helps convey messages of faith\, hope\, and love. Their music invites the congregation to engage in worship\, creating an atmosphere of reverence and connection. \nBuilding Community and Fellowship\nJoining a church choir fosters a sense of community and fellowship among its members. Singers from various backgrounds come together\, united by their love of music and devotion to their faith. This shared experience not only enhances their musical talents but also strengthens relationships\, providing a supportive network within the church. \nOpportunities for Growth and Learning\nParticipation in the choir offers numerous opportunities for personal and spiritual growth. Members can develop their vocal skills\, explore different musical styles\, and deepen their understanding of the spiritual significance of the songs they perform. Rehearsals often include discussions that enrich both musical and faith journeys\, making the choir a valuable ministry within the church.
URL:https://themes.creativebrainweb.com/churchhope/event/church-choir/
LOCATION:Venue Name\, 14 Tottenham Road\, San Jose\, CA\, 95155\, United States
CATEGORIES:event
ATTACH;FMTTYPE=image/webp:https://themes.creativebrainweb.com/churchhope/wp-content/uploads/2024/11/e4.webp
END:VEVENT
BEGIN:VEVENT
DTSTART;TZID=Asia/Kolkata:20241030T080000
DTEND;TZID=Asia/Kolkata:20251031T170000
DTSTAMP:20260422T145439
CREATED:20241101T164803Z
LAST-MODIFIED:20250526T133017Z
UID:2096-1730275200-1761930000@themes.creativebrainweb.com
SUMMARY:The Journey to Relational Abundance
DESCRIPTION:Cultivating Meaningful Connections\n In a world that often feels disconnected\, the pursuit of relational abundance is more important than ever. It’s not just about having a large circle of acquaintances; it’s about fostering deep\, meaningful connections that enrich our lives. Relational abundance encompasses the quality of our relationships and the emotional support we receive from them. This journey begins with self-awareness and a commitment to nurturing the bonds we hold dear. \nEmbracing Vulnerability and Trust\nTo cultivate relational abundance\, we must first embrace vulnerability. Opening up to others can be daunting\, but it’s essential for building trust and intimacy. When we share our thoughts\, feelings\, and experiences\, we create a space for others to do the same. This mutual exchange deepens our connections and allows us to truly understand one another. It’s through vulnerability that we can find common ground and strengthen our relationships. \nPrioritizing Quality Over Quantity\nWhile it can be tempting to focus on expanding our social networks\, true relational abundance comes from prioritizing quality over quantity. Invest time and energy into the relationships that matter most to you. This means being present\, actively listening\, and showing appreciation for the people in your life. By fostering a few close\, supportive relationships\, we can create a strong foundation for emotional well-being and resilience.
URL:https://themes.creativebrainweb.com/churchhope/event/the-journey-to-relational-abundance/
LOCATION:Venue Name\, 14 Tottenham Road\, San Jose\, CA\, 95155\, United States
CATEGORIES:event
ATTACH;FMTTYPE=image/webp:https://themes.creativebrainweb.com/churchhope/wp-content/uploads/2024/11/e3.webp
END:VEVENT
BEGIN:VEVENT
DTSTART;TZID=Asia/Kolkata:20241030T080000
DTEND;TZID=Asia/Kolkata:20251031T170000
DTSTAMP:20260422T145439
CREATED:20241101T164206Z
LAST-MODIFIED:20250526T133017Z
UID:2092-1730275200-1761930000@themes.creativebrainweb.com
SUMMARY:Chronic Pain and Illness Support Group
DESCRIPTION:Navigating Life with Chronic Pain: Join Our Support Group\nLiving with chronic pain or illness can often feel isolating and overwhelming. The daily challenges can take a toll not only on your body but also on your emotional well-being. Our Chronic Pain and Illness Support Group is here to provide a nurturing environment where you can connect with others who understand your struggles and share their journeys. \nUnderstanding the Impact of Chronic Pain\nChronic pain affects everyone differently\, and it can be difficult to find people who truly empathize with what you’re going through. In our support group\, you’ll find a community of individuals who are facing similar challenges. Together\, we can share experiences\, exchange coping strategies\, and find comfort in knowing that you’re not alone in this journey. \nResources for Coping and Healing\nOur meetings offer a variety of resources to help you manage your pain and improve your quality of life. We focus on fostering connections\, sharing practical tips for daily living\, and discussing self-care strategies that can make a real difference. Additionally\, our sessions are led by trained facilitators who can guide discussions and provide a supportive framework for healing and understanding. \nIf you’re looking for a compassionate space to share your experiences and learn from others\, we invite you to join our Chronic Pain and Illness Support Group. Together\, we can navigate the complexities of living with chronic pain and discover pathways to resilience and hope.
URL:https://themes.creativebrainweb.com/churchhope/event/chronic-pain-and-illness-support-group/
LOCATION:Venue Name\, 14 Tottenham Road\, San Jose\, CA\, 95155\, United States
CATEGORIES:event
ATTACH;FMTTYPE=image/webp:https://themes.creativebrainweb.com/churchhope/wp-content/uploads/2024/11/e2.webp
END:VEVENT
BEGIN:VEVENT
DTSTART;TZID=Asia/Kolkata:20241030T080000
DTEND;TZID=Asia/Kolkata:20251031T170000
DTSTAMP:20260422T145439
CREATED:20241022T124127Z
LAST-MODIFIED:20250526T133017Z
UID:1087-1730275200-1761930000@themes.creativebrainweb.com
SUMMARY:Winter Suicide Loss Support Group
DESCRIPTION:Finding Light in the Darkness\nJoining Our Winter Grief Support Group\nAs the days grow shorter and the air turns crisp\, winter can be a challenging time for many\, especially those who have experienced the loss of a loved one. The holiday season often amplifies feelings of grief\, making it difficult to navigate this period alone. Our Winter Grief and Loss Support Group offers a safe space to share your experiences and find solace among those who understand what you’re going through. \nUnderstanding Grief During Winter\nThe cold months can bring about a sense of isolation\, and it’s common to feel overwhelmed by sadness. Many people find that the winter season serves as a reminder of their loss\, triggering memories and emotions that are hard to bear. It’s important to acknowledge these feelings and seek support. \nWhat Our Support Group Offers\nIn our support group\, you will find:\nCommunity and Connection: Engage with others who have experienced similar losses. Sharing stories can foster connections and help you feel less alone.\nCoping Strategies: Learn practical tools to manage your grief and find ways to honor your loved ones during the winter months.\nGuided Discussions: Participate in guided conversations led by trained facilitators who can help you explore your feelings and provide a framework for healing.
URL:https://themes.creativebrainweb.com/churchhope/event/winter-suicide-loss-support-group/
LOCATION:Venue Name\, 14 Tottenham Road\, San Jose\, CA\, 95155\, United States
CATEGORIES:event
ATTACH;FMTTYPE=image/webp:https://themes.creativebrainweb.com/churchhope/wp-content/uploads/2024/10/bb1.webp
END:VEVENT
END:VCALENDAR